BEGIN:VCALENDAR
VERSION:2.0
PRODID:-//Centrum Chrześcijańskie Jezus Żyje - ECPv6.0.8//NONSGML v1.0//EN
CALSCALE:GREGORIAN
METHOD:PUBLISH
X-ORIGINAL-URL:https://zyrardow.kbwch.pl
X-WR-CALDESC:Events for Centrum Chrześcijańskie Jezus Żyje
REFRESH-INTERVAL;VALUE=DURATION:PT1H
X-Robots-Tag:noindex
X-PUBLISHED-TTL:PT1H
BEGIN:VTIMEZONE
TZID:Europe/Warsaw
BEGIN:DAYLIGHT
TZOFFSETFROM:+0100
TZOFFSETTO:+0200
TZNAME:CEST
DTSTART:20230326T010000
END:DAYLIGHT
BEGIN:STANDARD
TZOFFSETFROM:+0200
TZOFFSETTO:+0100
TZNAME:CET
DTSTART:20231029T010000
END:STANDARD
END:VTIMEZONE
BEGIN:VEVENT
DTSTART;TZID=Europe/Warsaw:20230407T180000
DTEND;TZID=Europe/Warsaw:20230407T210000
DTSTAMP:20260424T222648
CREATED:20230329T161431Z
LAST-MODIFIED:20230329T161431Z
UID:2612-1680890400-1680901200@zyrardow.kbwch.pl
SUMMARY:Piątkowa modlitwa
DESCRIPTION:
URL:https://zyrardow.kbwch.pl/wydarzenie/piatkowa-modlitwa-2/
LOCATION:Centrum Chrześcijańskie \,\,Jezus żyje”\, ul. Waryńskiego 1\, Żyrardów\, woj. mazowieckie\, 96-300\, Polska
CATEGORIES:Modlitwa i uwielbienie
END:VEVENT
END:VCALENDAR