BEGIN:VCALENDAR
VERSION:2.0
PRODID:-//Centrum Chrześcijańskie Jezus Żyje - ECPv6.0.8//NONSGML v1.0//EN
CALSCALE:GREGORIAN
METHOD:PUBLISH
X-WR-CALNAME:Centrum Chrześcijańskie Jezus Żyje
X-ORIGINAL-URL:https://zyrardow.kbwch.pl
X-WR-CALDESC:Events for Centrum Chrześcijańskie Jezus Żyje
REFRESH-INTERVAL;VALUE=DURATION:PT1H
X-Robots-Tag:noindex
X-PUBLISHED-TTL:PT1H
BEGIN:VTIMEZONE
TZID:Europe/Warsaw
BEGIN:DAYLIGHT
TZOFFSETFROM:+0100
TZOFFSETTO:+0200
TZNAME:CEST
DTSTART:20190331T010000
END:DAYLIGHT
BEGIN:STANDARD
TZOFFSETFROM:+0200
TZOFFSETTO:+0100
TZNAME:CET
DTSTART:20191027T010000
END:STANDARD
BEGIN:DAYLIGHT
TZOFFSETFROM:+0100
TZOFFSETTO:+0200
TZNAME:CEST
DTSTART:20200329T010000
END:DAYLIGHT
BEGIN:STANDARD
TZOFFSETFROM:+0200
TZOFFSETTO:+0100
TZNAME:CET
DTSTART:20201025T010000
END:STANDARD
BEGIN:DAYLIGHT
TZOFFSETFROM:+0100
TZOFFSETTO:+0200
TZNAME:CEST
DTSTART:20210328T010000
END:DAYLIGHT
BEGIN:STANDARD
TZOFFSETFROM:+0200
TZOFFSETTO:+0100
TZNAME:CET
DTSTART:20211031T010000
END:STANDARD
BEGIN:DAYLIGHT
TZOFFSETFROM:+0100
TZOFFSETTO:+0200
TZNAME:CEST
DTSTART:20220327T010000
END:DAYLIGHT
BEGIN:STANDARD
TZOFFSETFROM:+0200
TZOFFSETTO:+0100
TZNAME:CET
DTSTART:20221030T010000
END:STANDARD
BEGIN:DAYLIGHT
TZOFFSETFROM:+0100
TZOFFSETTO:+0200
TZNAME:CEST
DTSTART:20230326T010000
END:DAYLIGHT
BEGIN:STANDARD
TZOFFSETFROM:+0200
TZOFFSETTO:+0100
TZNAME:CET
DTSTART:20231029T010000
END:STANDARD
END:VTIMEZONE
BEGIN:VEVENT
DTSTART;TZID=Europe/Warsaw:20230611T100000
DTEND;TZID=Europe/Warsaw:20230611T130000
DTSTAMP:20260423T005725
CREATED:20230528T200005Z
LAST-MODIFIED:20230528T200005Z
UID:2663-1686477600-1686488400@zyrardow.kbwch.pl
SUMMARY:Nabożeństwo niedzielne 11.06.2023
DESCRIPTION:
URL:https://zyrardow.kbwch.pl/wydarzenie/nabozenstwo-niedzielne-11-06-2023/
LOCATION:Centrum Chrześcijańskie \,\,Jezus żyje”\, ul. Waryńskiego 1\, Żyrardów\, woj. mazowieckie\, 96-300\, Polska
CATEGORIES:Nabożeństwo niedzielne
END:VEVENT
BEGIN:VEVENT
DTSTART;TZID=Europe/Warsaw:20230609T180000
DTEND;TZID=Europe/Warsaw:20230609T210000
DTSTAMP:20260423T005725
CREATED:20230528T195917Z
LAST-MODIFIED:20230528T200015Z
UID:2661-1686333600-1686344400@zyrardow.kbwch.pl
SUMMARY:Piątkowa modlitwa
DESCRIPTION:
URL:https://zyrardow.kbwch.pl/wydarzenie/piatkowa-modlitwa-4/
LOCATION:Centrum Chrześcijańskie \,\,Jezus żyje”\, ul. Waryńskiego 1\, Żyrardów\, woj. mazowieckie\, 96-300\, Polska
CATEGORIES:Modlitwa i uwielbienie
END:VEVENT
BEGIN:VEVENT
DTSTART;TZID=Europe/Warsaw:20230607T183000
DTEND;TZID=Europe/Warsaw:20230607T213000
DTSTAMP:20260423T005725
CREATED:20230528T195835Z
LAST-MODIFIED:20230528T195835Z
UID:2659-1686162600-1686173400@zyrardow.kbwch.pl
SUMMARY:Szkoła życia w Królestwie Bożym – Dan Mohler
DESCRIPTION:
URL:https://zyrardow.kbwch.pl/wydarzenie/szkola-zycia-w-krolestwie-bozym-dan-mohler-4/
LOCATION:Centrum Chrześcijańskie \,\,Jezus żyje”\, ul. Waryńskiego 1\, Żyrardów\, woj. mazowieckie\, 96-300\, Polska
CATEGORIES:Studium biblijne
END:VEVENT
BEGIN:VEVENT
DTSTART;TZID=Europe/Warsaw:20230604T100000
DTEND;TZID=Europe/Warsaw:20230604T130000
DTSTAMP:20260423T005725
CREATED:20230528T195808Z
LAST-MODIFIED:20230528T195808Z
UID:2657-1685872800-1685883600@zyrardow.kbwch.pl
SUMMARY:Nabożeństwo niedzielne 04.06.2023
DESCRIPTION:
URL:https://zyrardow.kbwch.pl/wydarzenie/nabozenstwo-niedzielne-04-06-2023/
LOCATION:Centrum Chrześcijańskie \,\,Jezus żyje”\, ul. Waryńskiego 1\, Żyrardów\, woj. mazowieckie\, 96-300\, Polska
CATEGORIES:Nabożeństwo niedzielne
END:VEVENT
BEGIN:VEVENT
DTSTART;TZID=Europe/Warsaw:20230602T180000
DTEND;TZID=Europe/Warsaw:20230602T210000
DTSTAMP:20260423T005725
CREATED:20230528T195613Z
LAST-MODIFIED:20230528T195704Z
UID:2654-1685728800-1685739600@zyrardow.kbwch.pl
SUMMARY:Piątkowa modlitwa
DESCRIPTION:
URL:https://zyrardow.kbwch.pl/wydarzenie/piatkowa-modlitwa-3/
LOCATION:Centrum Chrześcijańskie \,\,Jezus żyje”\, ul. Waryńskiego 1\, Żyrardów\, woj. mazowieckie\, 96-300\, Polska
CATEGORIES:Modlitwa i uwielbienie
END:VEVENT
BEGIN:VEVENT
DTSTART;TZID=Europe/Warsaw:20230531T183000
DTEND;TZID=Europe/Warsaw:20230531T213000
DTSTAMP:20260423T005725
CREATED:20230528T195438Z
LAST-MODIFIED:20230528T195658Z
UID:2652-1685557800-1685568600@zyrardow.kbwch.pl
SUMMARY:Szkoła życia w Królestwie Bożym – Dan Mohler
DESCRIPTION:
URL:https://zyrardow.kbwch.pl/wydarzenie/szkola-zycia-w-krolestwie-bozym-dan-mohler-3/
LOCATION:Centrum Chrześcijańskie \,\,Jezus żyje”\, ul. Waryńskiego 1\, Żyrardów\, woj. mazowieckie\, 96-300\, Polska
CATEGORIES:Studium biblijne
END:VEVENT
BEGIN:VEVENT
DTSTART;TZID=Europe/Warsaw:20230409T100000
DTEND;TZID=Europe/Warsaw:20230409T130000
DTSTAMP:20260423T005725
CREATED:20230329T161503Z
LAST-MODIFIED:20230528T195307Z
UID:2614-1681034400-1681045200@zyrardow.kbwch.pl
SUMMARY:Nabożeństwo niedzielne 09.04.2023
DESCRIPTION:
URL:https://zyrardow.kbwch.pl/wydarzenie/nabozenstwo-niedzielne-09-04-2023/
LOCATION:Centrum Chrześcijańskie \,\,Jezus żyje”\, ul. Waryńskiego 1\, Żyrardów\, woj. mazowieckie\, 96-300\, Polska
CATEGORIES:Nabożeństwo niedzielne
END:VEVENT
BEGIN:VEVENT
DTSTART;TZID=Europe/Warsaw:20230407T180000
DTEND;TZID=Europe/Warsaw:20230407T210000
DTSTAMP:20260423T005725
CREATED:20230329T161431Z
LAST-MODIFIED:20230329T161431Z
UID:2612-1680890400-1680901200@zyrardow.kbwch.pl
SUMMARY:Piątkowa modlitwa
DESCRIPTION:
URL:https://zyrardow.kbwch.pl/wydarzenie/piatkowa-modlitwa-2/
LOCATION:Centrum Chrześcijańskie \,\,Jezus żyje”\, ul. Waryńskiego 1\, Żyrardów\, woj. mazowieckie\, 96-300\, Polska
CATEGORIES:Modlitwa i uwielbienie
END:VEVENT
BEGIN:VEVENT
DTSTART;TZID=Europe/Warsaw:20230405T183000
DTEND;TZID=Europe/Warsaw:20230405T213000
DTSTAMP:20260423T005725
CREATED:20230329T161342Z
LAST-MODIFIED:20230528T195607Z
UID:2610-1680719400-1680730200@zyrardow.kbwch.pl
SUMMARY:Szkoła życia w Królestwie Bożym – Dan Mohler
DESCRIPTION:
URL:https://zyrardow.kbwch.pl/wydarzenie/szkola-zycia-w-krolestwie-bozym-dan-mohler-2/
LOCATION:woj. mazowieckie
CATEGORIES:Studium biblijne
END:VEVENT
BEGIN:VEVENT
DTSTART;TZID=Europe/Warsaw:20230402T100000
DTEND;TZID=Europe/Warsaw:20230402T130000
DTSTAMP:20260423T005725
CREATED:20230327T162858Z
LAST-MODIFIED:20230327T163150Z
UID:2470-1680429600-1680440400@zyrardow.kbwch.pl
SUMMARY:Nabożeństwo niedzielne 02.04.2023
DESCRIPTION:
URL:https://zyrardow.kbwch.pl/wydarzenie/nabozenstwo-niedzielne-02-04-2023/
LOCATION:Centrum Chrześcijańskie \,\,Jezus żyje”\, ul. Waryńskiego 1\, Żyrardów\, woj. mazowieckie\, 96-300\, Polska
CATEGORIES:Nabożeństwo niedzielne
END:VEVENT
BEGIN:VEVENT
DTSTART;TZID=Europe/Warsaw:20230331T180000
DTEND;TZID=Europe/Warsaw:20230331T210000
DTSTAMP:20260423T005725
CREATED:20230327T165147Z
LAST-MODIFIED:20230327T165147Z
UID:2476-1680285600-1680296400@zyrardow.kbwch.pl
SUMMARY:Piątkowa modlitwa
DESCRIPTION:
URL:https://zyrardow.kbwch.pl/wydarzenie/piatkowa-modlitwa/
LOCATION:woj. mazowieckie
CATEGORIES:Modlitwa i uwielbienie
END:VEVENT
BEGIN:VEVENT
DTSTART;TZID=Europe/Warsaw:20230329T183000
DTEND;TZID=Europe/Warsaw:20230329T213000
DTSTAMP:20260423T005725
CREATED:20230327T165117Z
LAST-MODIFIED:20230327T165117Z
UID:2474-1680114600-1680125400@zyrardow.kbwch.pl
SUMMARY:Szkoła życia w Królestwie Bożym - Dan Mohler
DESCRIPTION:
URL:https://zyrardow.kbwch.pl/wydarzenie/szkola-zycia-w-krolestwie-bozym-dan-mohler/
LOCATION:woj. mazowieckie
CATEGORIES:Studium biblijne
END:VEVENT
BEGIN:VEVENT
DTSTART;TZID=Europe/Warsaw:20230319T100000
DTEND;TZID=Europe/Warsaw:20230319T130000
DTSTAMP:20260423T005725
CREATED:20230318T090920Z
LAST-MODIFIED:20230318T090920Z
UID:2382-1679220000-1679230800@zyrardow.kbwch.pl
SUMMARY:Nabożeństwo niedzielne 19.03.2023
DESCRIPTION:
URL:https://zyrardow.kbwch.pl/wydarzenie/nabozenstwo-niedzielne-19-03-2023/
LOCATION:Centrum Chrześcijańskie \,\,Jezus żyje”\, ul. Waryńskiego 1\, Żyrardów\, woj. mazowieckie\, 96-300\, Polska
CATEGORIES:Nabożeństwo niedzielne
END:VEVENT
BEGIN:VEVENT
DTSTART;TZID=Europe/Warsaw:20190127T103000
DTEND;TZID=Europe/Warsaw:20190127T130000
DTSTAMP:20260423T005725
CREATED:20171123T181144Z
LAST-MODIFIED:20190108T175735Z
UID:948-1548585000-1548594000@zyrardow.kbwch.pl
SUMMARY:Nabożeństwo niedzielne
DESCRIPTION:
URL:https://zyrardow.kbwch.pl/wydarzenie/nabozenstwo-niedzielne/
LOCATION:Centrum Chrześcijańskie \,\,Jezus żyje”\, ul. Waryńskiego 1\, Żyrardów\, woj. mazowieckie\, 96-300\, Polska
CATEGORIES:Nabożeństwo niedzielne
END:VEVENT
BEGIN:VEVENT
DTSTART;TZID=Europe/Warsaw:20190125T180000
DTEND;TZID=Europe/Warsaw:20190125T200000
DTSTAMP:20260423T005725
CREATED:20180924T211149Z
LAST-MODIFIED:20190108T175920Z
UID:1141-1548439200-1548446400@zyrardow.kbwch.pl
SUMMARY:Modlitwa i uwielbienie
DESCRIPTION:
URL:https://zyrardow.kbwch.pl/wydarzenie/modlitwa-i-uwielbienie/
LOCATION:Centrum Chrześcijańskie \,\,Jezus żyje”\, ul. Waryńskiego 1\, Żyrardów\, woj. mazowieckie\, 96-300\, Polska
CATEGORIES:Modlitwa i uwielbienie
END:VEVENT
BEGIN:VEVENT
DTSTART;TZID=Europe/Warsaw:20190123T180000
DTEND;TZID=Europe/Warsaw:20190123T200000
DTSTAMP:20260423T005725
CREATED:20171019T181716Z
LAST-MODIFIED:20190108T180029Z
UID:892-1548266400-1548273600@zyrardow.kbwch.pl
SUMMARY:Studium biblijne
DESCRIPTION:
URL:https://zyrardow.kbwch.pl/wydarzenie/budowanie-fundamentow/
LOCATION:Studium Biblijne\, ul. Waryńskiego 1\, Żyrardów\, Polska
CATEGORIES:Studium biblijne
END:VEVENT
BEGIN:VEVENT
DTSTART;TZID=Europe/Warsaw:20190120T103000
DTEND;TZID=Europe/Warsaw:20190120T130000
DTSTAMP:20260423T005725
CREATED:20170925T181642Z
LAST-MODIFIED:20190108T175658Z
UID:860-1547980200-1547989200@zyrardow.kbwch.pl
SUMMARY:Nabożeństwo niedzielne
DESCRIPTION:
URL:https://zyrardow.kbwch.pl/wydarzenie/nabozenstwo-niedzielne-5/
LOCATION:Centrum Chrześcijańskie \,\,Jezus żyje”\, ul. Waryńskiego 1\, Żyrardów\, woj. mazowieckie\, 96-300\, Polska
CATEGORIES:Nabożeństwo niedzielne
END:VEVENT
BEGIN:VEVENT
DTSTART;TZID=Europe/Warsaw:20190118T180000
DTEND;TZID=Europe/Warsaw:20190118T200000
DTSTAMP:20260423T005725
CREATED:20180924T211417Z
LAST-MODIFIED:20190108T175855Z
UID:1143-1547834400-1547841600@zyrardow.kbwch.pl
SUMMARY:Modlitwa i uwielbienie
DESCRIPTION:
URL:https://zyrardow.kbwch.pl/wydarzenie/modlitwa-i-uwielbienie-2/
LOCATION:Centrum Chrześcijańskie \,\,Jezus żyje”\, ul. Waryńskiego 1\, Żyrardów\, woj. mazowieckie\, 96-300\, Polska
CATEGORIES:Modlitwa i uwielbienie
END:VEVENT
BEGIN:VEVENT
DTSTART;TZID=Europe/Warsaw:20190116T180000
DTEND;TZID=Europe/Warsaw:20190116T200000
DTSTAMP:20260423T005725
CREATED:20171031T123803Z
LAST-MODIFIED:20190108T180004Z
UID:919-1547661600-1547668800@zyrardow.kbwch.pl
SUMMARY:Studium biblijne
DESCRIPTION:
URL:https://zyrardow.kbwch.pl/wydarzenie/fundamenty-wiary/
LOCATION:Studium Biblijne\, ul. Waryńskiego 1\, Żyrardów\, Polska
CATEGORIES:Studium biblijne
END:VEVENT
BEGIN:VEVENT
DTSTART;TZID=Europe/Warsaw:20190113T103000
DTEND;TZID=Europe/Warsaw:20190113T130000
DTSTAMP:20260423T005725
CREATED:20170925T181759Z
LAST-MODIFIED:20190108T175631Z
UID:862-1547375400-1547384400@zyrardow.kbwch.pl
SUMMARY:Nabożeństwo niedzielne
DESCRIPTION:
URL:https://zyrardow.kbwch.pl/wydarzenie/nabozenstwo-niedzielne-6/
LOCATION:Centrum Chrześcijańskie \,\,Jezus żyje”\, ul. Waryńskiego 1\, Żyrardów\, woj. mazowieckie\, 96-300\, Polska
CATEGORIES:Nabożeństwo niedzielne
END:VEVENT
BEGIN:VEVENT
DTSTART;TZID=Europe/Warsaw:20190111T180000
DTEND;TZID=Europe/Warsaw:20190111T200000
DTSTAMP:20260423T005725
CREATED:20180924T211548Z
LAST-MODIFIED:20181221T202630Z
UID:1145-1547229600-1547236800@zyrardow.kbwch.pl
SUMMARY:Modlitwa i uwielbienie
DESCRIPTION:
URL:https://zyrardow.kbwch.pl/wydarzenie/modlitwa-i-uwielbienie-3/
LOCATION:Centrum Chrześcijańskie \,\,Jezus żyje”\, ul. Waryńskiego 1\, Żyrardów\, woj. mazowieckie\, 96-300\, Polska
CATEGORIES:Modlitwa i uwielbienie
END:VEVENT
BEGIN:VEVENT
DTSTART;TZID=Europe/Warsaw:20190109T180000
DTEND;TZID=Europe/Warsaw:20190109T200000
DTSTAMP:20260423T005725
CREATED:20171019T181921Z
LAST-MODIFIED:20181221T202750Z
UID:895-1547056800-1547064000@zyrardow.kbwch.pl
SUMMARY:Studium biblijne
DESCRIPTION:
URL:https://zyrardow.kbwch.pl/wydarzenie/budowanie-fundamentow-2/
LOCATION:Studium Biblijne\, ul. Waryńskiego 1\, Żyrardów\, Polska
CATEGORIES:Studium biblijne
END:VEVENT
END:VCALENDAR